BEGIN:VCALENDAR
VERSION:2.0
PRODID:-//wp-events-plugin.com//7.2.3.1//EN
TZID:Europe/Berlin
X-WR-TIMEZONE:Europe/Berlin
BEGIN:VEVENT
UID:442@folkfruehling.de
DTSTART;TZID=Europe/Berlin:20240120T200000
DTEND;TZID=Europe/Berlin:20240120T223000
DTSTAMP:20230829T122928Z
URL:https://folkfruehling.de/events/konzert-william-van-der-laan/
SUMMARY:Konzert "William van der Laan"
DESCRIPTION:William ist in der Irish Folk Szene als Frontsänger der hollä
 ndischen Band „Rapalje“ bekannt. In den Anfängen der Geschichte des V
 enner Folkfrühlings war Rapalje ein fester Stammgast auf dem Festival. Nu
 n ist es unglaubliche 15 Jahre her\, dass Rapalje das letzte Mal in Venne 
 spielte. Seit einigen Jahren geht William auch als Solo-Künstler auf Tour
  und wird unseren Venner Mühlenkotten mit seiner Musik in einen Irish Pub
  verwandeln. Neben irischen und schottischen Songs\, die man teilweise aus
  dem Rapalje-Repertoire kennt\, singt er zahlreiche Eigenkompositionen und
  sogar den ein oder anderen Blues. Neben der legendären Gitouki (eine sel
 bst gebaute Mischung aus Gitarre und Bouzouki) spielt William Gitarre und 
 gleichzeitig Mundharmonika. Passend zu seinem Solo-Programm gibt es das Li
 ve-Album „Street Live“.
ATTACH;FMTTYPE=image/jpeg:https://folkfruehling.de/wp-content/uploads/Bild
 -William-von-Rapalje-2023-Ausschnitt-min.jpg
CATEGORIES:Konzert
LOCATION:Mühlenkotten auf der Mühleninsel\, Osnabrücker Straße\, Venne\
 , Deutschland\, 49179\, Deutschland
X-APPLE-STRUCTURED-LOCATION;VALUE=URI;X-ADDRESS=Osnabrücker Straße\, Venn
 e\, Deutschland\, 49179\, Deutschland;X-APPLE-RADIUS=100;X-TITLE=Mühlenko
 tten auf der Mühleninsel:geo:0,0
END:VEVENT
BEGIN:VTIMEZONE
TZID:Europe/Berlin
X-LIC-LOCATION:Europe/Berlin
BEGIN:STANDARD
DTSTART:20231029T020000
TZOFFSETFROM:+0200
TZOFFSETTO:+0100
TZNAME:CET
END:STANDARD
END:VTIMEZONE
END:VCALENDAR