BEGIN:VCALENDAR
VERSION:2.0
PRODID:-//wp-events-plugin.com//7.2.3.1//EN
TZID:Europe/Berlin
X-WR-TIMEZONE:Europe/Berlin
BEGIN:VEVENT
UID:369@folkfruehling.de
DTSTART;TZID=Europe/Berlin:20220405T200000
DTEND;TZID=Europe/Berlin:20220405T220000
DTSTAMP:20220315T132058Z
URL:https://folkfruehling.de/events/konzert-acoustic-eidolon-am-5-4-2022/
SUMMARY:Konzert "Acoustic Eidolon" am 5.4.2022
DESCRIPTION:Passion on Strings - Klanglandschaften aus Colorado\nDie Cellis
 tin Hannah Alkire und Gitarrist Joe Scott leben am Fuß der Rocky Mountain
 s in Colorado. Sie sind zusammen mit dem Berliner Harfenisten Thomas Loefk
 e auf einer 3-wöchigen Tournee durch Deutschland.\n\nAcoustic Eidolon hab
 en einen ganz neuen Sound im Bereich akustischer Musik geschaffen. Joe spi
 elt das “double-neck guitjo“\, eine eigens für ihn gebaute Gitarre mi
 t zwei Hälsen und 14 Saiten. Die Bauweise dieses Instruments ermöglicht 
 es ihm\, auf beiden Hälsen gleichzeitig zu spielen. Ein einmaliges Instru
 ment mit unglaublichem Stimmumfang und klanglicher Vielfalt\, das mal wie 
 ein Klavier und dann wieder wie eine Harfe klingt.\n\nDer glockenhafte Kla
 ng des Guitjo liefert den genialen Kontrapunkt zu Hannahs virtuosem Cellos
 piel. Loefkes Harfe malt dazu verträumte Melodiebögen\, webt zarte Klang
 teppiche setzt rhythmische Akzente und hält mit den atemberaubend emotion
 alen Höhenflügen von Cello und Guitjo mühelos mit. So entstehen Klangla
 ndschaften von zauberhaftem Charakter die das Publikum mitnehmen auf eine 
 musikalische Weltreise.\n\nDie Trio-CD "Friends Across the Ocean" ist Resu
 ltat einer musikalischen Zusammenarbeit und Freundschaft\, die vor 20 Jahr
 en auf einem Festival im kanadischen Vancouver begann und seitdem zu viele
 n gemeinsame Touren auf beiden Seiten des Atlantik geführt hat.\n\nJoe Sc
 ott hat Gitarre am berühmten Guitar Institute of Technology in Hollywood 
 studiert. Als Gründungsmitglied der Gruppe Wind Machine hat er 13 von Kri
 tikern gefeierte CDs aufgenommen und mit dieser in Nordamerika äußerst e
 rfolgreichen Band viele Jahre getourt. Sein zweites Standbein ist sein Auf
 nahmestudio\, wo er neben den eigenen Aufnahmen auch andere einflussreiche
  Künstler produziert.\nHannah Alkire hat eine klassische Ausbildung. Sie 
 studierte mit G. Magyar vom Hungarian String Quartet. Nach dem Umzug nach 
 Boulder in Colorado\, trat sie regelmäßig auf dem Boulder Bach Festival\
 , dem Mahler Fest sowie mit der Boulder Philharmonic auf. Sie ist Gründun
 gsmitglied des Anasazi String Quartet und in zahllosen musikalischen Proje
 kten in den Rocky Mountains involviert.\nThomas Loefke studierte in Dublin
  und Berlin. Sein Handwerk lernte er bei Irlands führenden Harfenistinnen
  Máire Ní Cháthasaigh\, Helen Davies und Aine Ní Dhúill. Der mehrfach
  preisgekrönte Harfenist tourt seit 1984 weltweit\, 1992 erschien die ers
 te von bislang 12 CDs. Neben seiner Gruppe Norland Wind arbeitet er auch a
 ls Solist und in Projekten mit der irischen Riverdance-Geigerin Máire Bre
 atnach und der färöischen Geigerin Angelika Hansen als Duo Norðan.\n\nZ
 um Reinhören\, hier ein Link: Acoustic Eidolon\n\nDen Erlös des Konzerte
 s spenden wir der Ukraine-Hilfe über das Konto der "Aktion Deutschland hi
 lft".
ATTACH;FMTTYPE=image/jpeg:https://folkfruehling.de/wp-content/uploads/Acou
 sticEidolon-20100505-166X©Pollert-_VFF.jpg
CATEGORIES:Konzert
LOCATION:Walburgiskirche\, Hauptstr. 30\, Venne\, Niedersachsen\, 49179\, D
 eutschland
GEO:52.3855027;8.167596099999968
X-APPLE-STRUCTURED-LOCATION;VALUE=URI;X-ADDRESS=Hauptstr. 30\, Venne\, Nied
 ersachsen\, 49179\, Deutschland;X-APPLE-RADIUS=100;X-TITLE=Walburgiskirche
 :geo:52.3855027,8.167596099999968
END:VEVENT
BEGIN:VTIMEZONE
TZID:Europe/Berlin
X-LIC-LOCATION:Europe/Berlin
BEGIN:DAYLIGHT
DTSTART:20220327T030000
TZOFFSETFROM:+0100
TZOFFSETTO:+0200
TZNAME:CEST
END:DAYLIGHT
END:VTIMEZONE
END:VCALENDAR